BEGIN:VCALENDAR
VERSION:2.0
PRODID:-//Tiro a Segno Nazionale Sezione Pavia - ECPv6.15.17.1//NONSGML v1.0//EN
CALSCALE:GREGORIAN
METHOD:PUBLISH
X-WR-CALNAME:Tiro a Segno Nazionale Sezione Pavia
X-ORIGINAL-URL:https://www.tsnpavia.com
X-WR-CALDESC:Eventi per Tiro a Segno Nazionale Sezione Pavia
REFRESH-INTERVAL;VALUE=DURATION:PT1H
X-Robots-Tag:noindex
X-PUBLISHED-TTL:PT1H
BEGIN:VTIMEZONE
TZID:Europe/Rome
BEGIN:DAYLIGHT
TZOFFSETFROM:+0100
TZOFFSETTO:+0200
TZNAME:CEST
DTSTART:20250330T010000
END:DAYLIGHT
BEGIN:STANDARD
TZOFFSETFROM:+0200
TZOFFSETTO:+0100
TZNAME:CET
DTSTART:20251026T010000
END:STANDARD
BEGIN:DAYLIGHT
TZOFFSETFROM:+0100
TZOFFSETTO:+0200
TZNAME:CEST
DTSTART:20260329T010000
END:DAYLIGHT
BEGIN:STANDARD
TZOFFSETFROM:+0200
TZOFFSETTO:+0100
TZNAME:CET
DTSTART:20261025T010000
END:STANDARD
BEGIN:DAYLIGHT
TZOFFSETFROM:+0100
TZOFFSETTO:+0200
TZNAME:CEST
DTSTART:20270328T010000
END:DAYLIGHT
BEGIN:STANDARD
TZOFFSETFROM:+0200
TZOFFSETTO:+0100
TZNAME:CET
DTSTART:20271031T010000
END:STANDARD
END:VTIMEZONE
BEGIN:VEVENT
DTSTART;TZID=Europe/Rome:20260424T080000
DTEND;TZID=Europe/Rome:20260429T170000
DTSTAMP:20260424T121742
CREATED:20260424T065812Z
LAST-MODIFIED:20260424T065812Z
UID:11802-1777017600-1777482000@www.tsnpavia.com
SUMMARY:Martedì 28 Aprile TSN CHIUSO
DESCRIPTION:Martedì 28 Aprile il Tsn sarà chiuso\, compreso il servizio di Segreteria.
URL:https://www.tsnpavia.com/eventi/martedi-28-aprile-tsn-chiuso/
LOCATION:Tiro a Segno Pavia\, Via Alzaia 135\, Pavia\, PV\, 27010\, Italia
CATEGORIES:Eventi
END:VEVENT
END:VCALENDAR